BEGIN:VCALENDAR
VERSION:2.0
PRODID:-//Greenfly - ECPv6.11.0.1//NONSGML v1.0//EN
CALSCALE:GREGORIAN
METHOD:PUBLISH
X-WR-CALNAME:Greenfly
X-ORIGINAL-URL:https://www.greenfly.com
X-WR-CALDESC:Events for Greenfly
REFRESH-INTERVAL;VALUE=DURATION:PT1H
X-Robots-Tag:noindex
X-PUBLISHED-TTL:PT1H
BEGIN:VTIMEZONE
TZID:America/Los_Angeles
BEGIN:DAYLIGHT
TZOFFSETFROM:-0800
TZOFFSETTO:-0700
TZNAME:PDT
DTSTART:20250309T100000
END:DAYLIGHT
BEGIN:STANDARD
TZOFFSETFROM:-0700
TZOFFSETTO:-0800
TZNAME:PST
DTSTART:20251102T090000
END:STANDARD
END:VTIMEZONE
BEGIN:VEVENT
DTSTART;VALUE=DATE:20250623
DTEND;VALUE=DATE:20250626
DTSTAMP:20260421T052311
CREATED:20250513T164449Z
LAST-MODIFIED:20250513T165000Z
UID:10000102-1750636800-1750895999@www.greenfly.com
SUMMARY:SkullSparks25
DESCRIPTION:SkullSparks25 is the premier national conference dedicated to college sports creatives. Taking place in Downtown Tulsa\, OK\, join Greenfly and top college sports leaders at this event. Get inspired by design\, digital\, video and photo staff from across the country.
URL:https://www.greenfly.com/event/skullsparks25/
LOCATION:Mayo Hotel\, 115 W 5th St\, Tulsa\, OK\, 74103
ATTACH;FMTTYPE=image/png:https://www.greenfly.com/wp-content/uploads/2025/05/SkullSparks25.png
END:VEVENT
END:VCALENDAR